BEGIN:VCALENDAR
VERSION:2.0
PRODID:-//Ataavi - ECPv6.12.0.1//NONSGML v1.0//EN
CALSCALE:GREGORIAN
METHOD:PUBLISH
X-WR-CALNAME:Ataavi
X-ORIGINAL-URL:https://sitemap.ataavi.org
X-WR-CALDESC:Events for Ataavi
REFRESH-INTERVAL;VALUE=DURATION:PT1H
X-Robots-Tag:noindex
X-PUBLISHED-TTL:PT1H
BEGIN:VTIMEZONE
TZID:Asia/Kolkata
BEGIN:STANDARD
TZOFFSETFROM:+0530
TZOFFSETTO:+0530
TZNAME:IST
DTSTART:20240101T000000
END:STANDARD
END:VTIMEZONE
BEGIN:VEVENT
DTSTART;TZID=Asia/Kolkata:20250202T090000
DTEND;TZID=Asia/Kolkata:20250202T180000
DTSTAMP:20260424T122531
CREATED:20250418T113944Z
LAST-MODIFIED:20250419T040518Z
UID:2080-1738486800-1738519200@sitemap.ataavi.org
SUMMARY:World Wetland Day Webinar
DESCRIPTION:Nature Photography Workshop				\n				\n				\n				\n							\n							\n											\n													\n										Bengaluru\, India\n									\n								\n											\n													\n										17 May\, 2025\n									\n								\n											\n													\n										\n									\n						\n						\n				\n					\n				\n		\n					\n		\n				\n				\n					Summary of Walk				\n				\n				\n				\n									With 25 enthusiastic participants\, the workshop led by expert Manish Manick at the Indian Institute of Science was a deeply engaging experience. The technical session on nature photography tips and camera basics sparked vibrant discussions\, with participants eagerly interacting through questions and shared stories. The energy carried into the practical session\, where everyone got so immersed—whether standing in the middle of a path or crouching in a field—they lost track of time\, fully absorbed in perfecting a single frame and capturing the magic of the moment.\n								\n				\n				\n		\n				\n				\n					Partnered with				\n				\n				\n				\n																														\n				\n				\n		\n		\n				\n				\n							\n			Number of Participants			\n				\n				0\n				\n			\n		\n						\n				\n				\n		\n				\n				\n					Manish ManickWildlife film-maker and photographer\, worked with Tamil Nadu Forest Department\, Andhra Pradesh Forest Department\, Wildlife Institute of India Projects
URL:https://sitemap.ataavi.org/event/world-wetland-day-webinar/
CATEGORIES:Ataavi College Chapter,Past Event
ATTACH;FMTTYPE=image/webp:https://sitemap.ataavi.org/wp-content/uploads/2025/04/wetlands.webp
END:VEVENT
BEGIN:VEVENT
DTSTART;TZID=Asia/Kolkata:20250118T090000
DTEND;TZID=Asia/Kolkata:20250118T180000
DTSTAMP:20260424T122531
CREATED:20250418T112413Z
LAST-MODIFIED:20250419T040557Z
UID:2052-1737190800-1737223200@sitemap.ataavi.org
SUMMARY:National Bird Day Celebration
DESCRIPTION:Nature Photography Workshop				\n				\n				\n				\n							\n							\n											\n													\n										Bengaluru\, India\n									\n								\n											\n													\n										17 May\, 2025\n									\n								\n											\n													\n										\n									\n						\n						\n				\n					\n				\n		\n					\n		\n				\n				\n					Summary of Walk				\n				\n				\n				\n									With 25 enthusiastic participants\, the workshop led by expert Manish Manick at the Indian Institute of Science was a deeply engaging experience. The technical session on nature photography tips and camera basics sparked vibrant discussions\, with participants eagerly interacting through questions and shared stories. The energy carried into the practical session\, where everyone got so immersed—whether standing in the middle of a path or crouching in a field—they lost track of time\, fully absorbed in perfecting a single frame and capturing the magic of the moment.\n								\n				\n				\n		\n				\n				\n					Partnered with				\n				\n				\n				\n																														\n				\n				\n		\n		\n				\n				\n							\n			Number of Participants			\n				\n				0\n				\n			\n		\n						\n				\n				\n		\n				\n				\n					Manish ManickWildlife film-maker and photographer\, worked with Tamil Nadu Forest Department\, Andhra Pradesh Forest Department\, Wildlife Institute of India Projects
URL:https://sitemap.ataavi.org/event/national-bird-day-celebration/
CATEGORIES:Ataavi College Chapter,Past Event
ATTACH;FMTTYPE=image/webp:https://sitemap.ataavi.org/wp-content/uploads/2025/04/Padmashree-college-group-photo.webp
END:VEVENT
BEGIN:VEVENT
DTSTART;TZID=Asia/Kolkata:20241207T080000
DTEND;TZID=Asia/Kolkata:20241207T180000
DTSTAMP:20260424T122531
CREATED:20250418T105810Z
LAST-MODIFIED:20250419T040548Z
UID:2012-1733558400-1733594400@sitemap.ataavi.org
SUMMARY:Birdathon Launch Event
DESCRIPTION:Nature Photography Workshop				\n				\n				\n				\n							\n							\n											\n													\n										Bengaluru\, India\n									\n								\n											\n													\n										17 May\, 2025\n									\n								\n											\n													\n										\n									\n						\n						\n				\n					\n				\n		\n					\n		\n				\n				\n					Summary of Walk				\n				\n				\n				\n									With 25 enthusiastic participants\, the workshop led by expert Manish Manick at the Indian Institute of Science was a deeply engaging experience. The technical session on nature photography tips and camera basics sparked vibrant discussions\, with participants eagerly interacting through questions and shared stories. The energy carried into the practical session\, where everyone got so immersed—whether standing in the middle of a path or crouching in a field—they lost track of time\, fully absorbed in perfecting a single frame and capturing the magic of the moment.\n								\n				\n				\n		\n				\n				\n					Partnered with				\n				\n				\n				\n																														\n				\n				\n		\n		\n				\n				\n							\n			Number of Participants			\n				\n				0\n				\n			\n		\n						\n				\n				\n		\n				\n				\n					Manish ManickWildlife film-maker and photographer\, worked with Tamil Nadu Forest Department\, Andhra Pradesh Forest Department\, Wildlife Institute of India Projects
URL:https://sitemap.ataavi.org/event/birdathon-launch-event-with-pims/
CATEGORIES:Ataavi College Chapter,Past Event
ATTACH;FMTTYPE=image/webp:https://sitemap.ataavi.org/wp-content/uploads/2025/04/Birdwatching.webp
END:VEVENT
BEGIN:VEVENT
DTSTART;TZID=Asia/Kolkata:20241006T070000
DTEND;TZID=Asia/Kolkata:20241008T180000
DTSTAMP:20260424T122531
CREATED:20250418T095934Z
LAST-MODIFIED:20250731T102055Z
UID:1981-1728198000-1728410400@sitemap.ataavi.org
SUMMARY:Nature Conservation Foundation-14 Cities\, 14 Walks
DESCRIPTION:Nature Photography Workshop				\n				\n				\n				\n							\n							\n											\n													\n										Bengaluru\, India\n									\n								\n											\n													\n										17 May\, 2025\n									\n								\n											\n													\n										\n									\n						\n						\n				\n					\n				\n		\n					\n		\n				\n				\n					Summary of Walk				\n				\n				\n				\n									With 25 enthusiastic participants\, the workshop led by expert Manish Manick at the Indian Institute of Science was a deeply engaging experience. The technical session on nature photography tips and camera basics sparked vibrant discussions\, with participants eagerly interacting through questions and shared stories. The energy carried into the practical session\, where everyone got so immersed—whether standing in the middle of a path or crouching in a field—they lost track of time\, fully absorbed in perfecting a single frame and capturing the magic of the moment.\n								\n				\n				\n		\n				\n				\n					Partnered with				\n				\n				\n				\n																														\n				\n				\n		\n		\n				\n				\n							\n			Number of Participants			\n				\n				0\n				\n			\n		\n						\n				\n				\n		\n				\n				\n					Manish ManickWildlife film-maker and photographer\, worked with Tamil Nadu Forest Department\, Andhra Pradesh Forest Department\, Wildlife Institute of India Projects
URL:https://sitemap.ataavi.org/event/six-cities-six-walks/
CATEGORIES:Collaboration Project,Past Event
ATTACH;FMTTYPE=image/webp:https://sitemap.ataavi.org/wp-content/uploads/2025/04/Gobuk-Walk_1.webp
END:VEVENT
END:VCALENDAR